BEGIN:VCALENDAR
VERSION:2.0
PRODID:-//Stadtjugendpflege Quickborn - ECPv6.15.20//NONSGML v1.0//EN
CALSCALE:GREGORIAN
METHOD:PUBLISH
X-ORIGINAL-URL:https://stadtjugendpflege-quickborn.de
X-WR-CALDESC:Veranstaltungen für Stadtjugendpflege Quickborn
REFRESH-INTERVAL;VALUE=DURATION:PT1H
X-Robots-Tag:noindex
X-PUBLISHED-TTL:PT1H
BEGIN:VTIMEZONE
TZID:Europe/Berlin
BEGIN:DAYLIGHT
TZOFFSETFROM:+0100
TZOFFSETTO:+0200
TZNAME:CEST
DTSTART:20240331T010000
END:DAYLIGHT
BEGIN:STANDARD
TZOFFSETFROM:+0200
TZOFFSETTO:+0100
TZNAME:CET
DTSTART:20241027T010000
END:STANDARD
BEGIN:DAYLIGHT
TZOFFSETFROM:+0100
TZOFFSETTO:+0200
TZNAME:CEST
DTSTART:20250330T010000
END:DAYLIGHT
BEGIN:STANDARD
TZOFFSETFROM:+0200
TZOFFSETTO:+0100
TZNAME:CET
DTSTART:20251026T010000
END:STANDARD
BEGIN:DAYLIGHT
TZOFFSETFROM:+0100
TZOFFSETTO:+0200
TZNAME:CEST
DTSTART:20260329T010000
END:DAYLIGHT
BEGIN:STANDARD
TZOFFSETFROM:+0200
TZOFFSETTO:+0100
TZNAME:CET
DTSTART:20261025T010000
END:STANDARD
END:VTIMEZONE
BEGIN:VEVENT
DTSTART;TZID=Europe/Berlin:20250516T150000
DTEND;TZID=Europe/Berlin:20250516T200000
DTSTAMP:20260423T133840
CREATED:20250117T094114Z
LAST-MODIFIED:20250122T134000Z
UID:169639-1747407600-1747425600@stadtjugendpflege-quickborn.de
SUMMARY:Medientag
DESCRIPTION:Wir wollen mit euch verschiedene digitale Medien ausprobieren. U.a. eine virtuelle Reise machen\, mit Virtual-Reality-Brillen (mit dem Smartphone)\, Playstation (FIFA Turnier oder Autorennen)\, Switch (Jump and Run Spiele)\, einen Stop-Motion-Film produzieren\, ein Quiz selbst machen etc. \nAb 8 Jahren\, kostenlos\, ohne Anmeldung \nFlyer (PDF)
URL:https://stadtjugendpflege-quickborn.de/event/medientag/
LOCATION:Haus der Jugend\, Ziegenweg 3\, Quickborn\, Schleswig-Holstein\, 25451\, Deutschland
END:VEVENT
END:VCALENDAR