BEGIN:VCALENDAR
VERSION:2.0
PRODID:-//Stadtjugendpflege Quickborn - ECPv6.15.18//NONSGML v1.0//EN
CALSCALE:GREGORIAN
METHOD:PUBLISH
X-ORIGINAL-URL:https://stadtjugendpflege-quickborn.de
X-WR-CALDESC:Veranstaltungen für Stadtjugendpflege Quickborn
REFRESH-INTERVAL;VALUE=DURATION:PT1H
X-Robots-Tag:noindex
X-PUBLISHED-TTL:PT1H
BEGIN:VTIMEZONE
TZID:Europe/Berlin
BEGIN:DAYLIGHT
TZOFFSETFROM:+0100
TZOFFSETTO:+0200
TZNAME:CEST
DTSTART:20250330T010000
END:DAYLIGHT
BEGIN:STANDARD
TZOFFSETFROM:+0200
TZOFFSETTO:+0100
TZNAME:CET
DTSTART:20251026T010000
END:STANDARD
BEGIN:DAYLIGHT
TZOFFSETFROM:+0100
TZOFFSETTO:+0200
TZNAME:CEST
DTSTART:20260329T010000
END:DAYLIGHT
BEGIN:STANDARD
TZOFFSETFROM:+0200
TZOFFSETTO:+0100
TZNAME:CET
DTSTART:20261025T010000
END:STANDARD
BEGIN:DAYLIGHT
TZOFFSETFROM:+0100
TZOFFSETTO:+0200
TZNAME:CEST
DTSTART:20270328T010000
END:DAYLIGHT
BEGIN:STANDARD
TZOFFSETFROM:+0200
TZOFFSETTO:+0100
TZNAME:CET
DTSTART:20271031T010000
END:STANDARD
END:VTIMEZONE
BEGIN:VEVENT
DTSTART;TZID=Europe/Berlin:20260302T100000
DTEND;TZID=Europe/Berlin:20260302T130000
DTSTAMP:20260421T143331
CREATED:20251128T090746Z
LAST-MODIFIED:20260204T115801Z
UID:171166-1772445600-1772456400@stadtjugendpflege-quickborn.de
SUMMARY:Spieltag mit Brunch
DESCRIPTION:Wir spielen mit euch gemeinsam diverse Brett- und Kartenspielen. Dazu gibt’s lecker Brunch.\nTeilnahme ohne Anmeldung ab 8 Jahren.\n  \nFlyer (PDF)
URL:https://stadtjugendpflege-quickborn.de/event/spieltag-mit-brunch/
LOCATION:Haus der Jugend\, Ziegenweg 3\, Quickborn\, Schleswig-Holstein\, 25451\, Deutschland
CATEGORIES:Ohne Anmeldung
END:VEVENT
BEGIN:VEVENT
DTSTART;TZID=Europe/Berlin:20260303T113000
DTEND;TZID=Europe/Berlin:20260303T190000
DTSTAMP:20260421T143331
CREATED:20251128T091646Z
LAST-MODIFIED:20260210T080525Z
UID:171172-1772537400-1772564400@stadtjugendpflege-quickborn.de
SUMMARY:Arriba 2026
DESCRIPTION:Ausflug in das Arriba-Erlebnisbad Norderstedt. Für Kinder von 8 bis 12 Jahren\, mindestens Schwimmabzeichen Bronze erforderlich!\n \nTreffen um 11:30 Uhr am Haus 25\, Am Freibad 25\n \nSchriftliche Anmeldung erforderlich\n \nAnmeldevordruck (PDF) \n \nFlyer (PDF)
URL:https://stadtjugendpflege-quickborn.de/event/arriba-2026/
LOCATION:Treffen am Haus 25
CATEGORIES:Anmeldung erforderlich
END:VEVENT
BEGIN:VEVENT
DTSTART;TZID=Europe/Berlin:20260306T180000
DTEND;TZID=Europe/Berlin:20260306T180000
DTSTAMP:20260421T143331
CREATED:20251202T112131Z
LAST-MODIFIED:20260204T115745Z
UID:171196-1772820000-1772820000@stadtjugendpflege-quickborn.de
SUMMARY:Planungssabend für Ehrenamtliche
DESCRIPTION:Wir möchten uns bei den Ehrenamtlichen bedanken und gleichzeitig neues mit euch planen. Neue Ehrenamtler oder die\, die es werden wollen\, sind auch herzlich eingeladen! \nFür Essen und Getränke sorgen wir. Bitte teilt uns bis 15. Februar 2026 mit\, ob Ihr dabei seid. Mehr Infos findet ihr auf dem Flyer (PDF)
URL:https://stadtjugendpflege-quickborn.de/event/planungssabend-fuer-ehrenamtliche/
LOCATION:Haus der Jugend\, Ziegenweg 3\, Quickborn\, Schleswig-Holstein\, 25451\, Deutschland
CATEGORIES:Ohne Anmeldung
END:VEVENT
BEGIN:VEVENT
DTSTART;TZID=Europe/Berlin:20260331T110000
DTEND;TZID=Europe/Berlin:20260401T170000
DTSTAMP:20260421T143331
CREATED:20251128T092530Z
LAST-MODIFIED:20260114T125536Z
UID:171176-1774954800-1775062800@stadtjugendpflege-quickborn.de
SUMMARY:Schneiderwerkstatt
DESCRIPTION:Wir wollen an Nähmaschinen tolle Kissen\, Taschen\, Kuscheltiere\, und vieles mehr nähen. Für Anfänger und Fortgeschrittene. Nähmaschinen und Material sind vorhanden\, eigene Nähmaschinen\, Schnitte oder Stoffe dürfen auch gerne mitgebracht werden.\nTeilnahme ab 10 Jahren. \nSchriftliche Anmeldung erforderlich\nAnmeldevordruck (PDF) \nFlyer (PDF)
URL:https://stadtjugendpflege-quickborn.de/event/schneiderwerkstatt/
LOCATION:Haus der Jugend\, Ziegenweg 3\, Quickborn\, Schleswig-Holstein\, 25451\, Deutschland
CATEGORIES:Anmeldung erforderlich
END:VEVENT
END:VCALENDAR